
BEGIN:VCALENDAR
VERSION:2.0
PRODID:-//Santa Clara Vanguard - ECPv6.15.20//NONSGML v1.0//EN
CALSCALE:GREGORIAN
METHOD:PUBLISH
X-ORIGINAL-URL:https://www.scvanguard.org
X-WR-CALDESC:Events for Santa Clara Vanguard
REFRESH-INTERVAL;VALUE=DURATION:PT1H
X-Robots-Tag:noindex
X-PUBLISHED-TTL:PT1H
BEGIN:VTIMEZONE
TZID:America/Los_Angeles
BEGIN:DAYLIGHT
TZOFFSETFROM:-0800
TZOFFSETTO:-0700
TZNAME:PDT
DTSTART:20240310T100000
END:DAYLIGHT
BEGIN:STANDARD
TZOFFSETFROM:-0700
TZOFFSETTO:-0800
TZNAME:PST
DTSTART:20241103T090000
END:STANDARD
BEGIN:DAYLIGHT
TZOFFSETFROM:-0800
TZOFFSETTO:-0700
TZNAME:PDT
DTSTART:20250309T100000
END:DAYLIGHT
BEGIN:STANDARD
TZOFFSETFROM:-0700
TZOFFSETTO:-0800
TZNAME:PST
DTSTART:20251102T090000
END:STANDARD
BEGIN:DAYLIGHT
TZOFFSETFROM:-0800
TZOFFSETTO:-0700
TZNAME:PDT
DTSTART:20260308T100000
END:DAYLIGHT
BEGIN:STANDARD
TZOFFSETFROM:-0700
TZOFFSETTO:-0800
TZNAME:PST
DTSTART:20261101T090000
END:STANDARD
END:VTIMEZONE
BEGIN:VTIMEZONE
TZID:America/New_York
BEGIN:DAYLIGHT
TZOFFSETFROM:-0500
TZOFFSETTO:-0400
TZNAME:EDT
DTSTART:20240310T070000
END:DAYLIGHT
BEGIN:STANDARD
TZOFFSETFROM:-0400
TZOFFSETTO:-0500
TZNAME:EST
DTSTART:20241103T060000
END:STANDARD
BEGIN:DAYLIGHT
TZOFFSETFROM:-0500
TZOFFSETTO:-0400
TZNAME:EDT
DTSTART:20250309T070000
END:DAYLIGHT
BEGIN:STANDARD
TZOFFSETFROM:-0400
TZOFFSETTO:-0500
TZNAME:EST
DTSTART:20251102T060000
END:STANDARD
BEGIN:DAYLIGHT
TZOFFSETFROM:-0500
TZOFFSETTO:-0400
TZNAME:EDT
DTSTART:20260308T070000
END:DAYLIGHT
BEGIN:STANDARD
TZOFFSETFROM:-0400
TZOFFSETTO:-0500
TZNAME:EST
DTSTART:20261101T060000
END:STANDARD
END:VTIMEZONE
BEGIN:VEVENT
DTSTART;TZID=America/Los_Angeles:20250802T190000
DTEND;TZID=America/Los_Angeles:20250802T230000
DTSTAMP:20260422T034302
CREATED:20241121T180524Z
LAST-MODIFIED:20241121T181028Z
UID:10001891-1754161200-1754175600@www.scvanguard.org
SUMMARY:DCI Eastern Classic
DESCRIPTION:DCI Eastern Classic\n\n 02 Aug\n Allentown\, PA\n 7:00 PM ET
URL:https://www.scvanguard.org/event/dci-eastern-classic-2/
CATEGORIES:DCI Shows
ATTACH;FMTTYPE=image/jpeg:https://www.scvanguard.org/wp-content/uploads/2024/11/DCI-SCV-Event-Pic.jpg
END:VEVENT
BEGIN:VEVENT
DTSTART;TZID=America/Los_Angeles:20250804T193000
DTEND;TZID=America/Los_Angeles:20250804T230000
DTSTAMP:20260422T034302
CREATED:20241121T180634Z
LAST-MODIFIED:20241121T181001Z
UID:10001892-1754335800-1754348400@www.scvanguard.org
SUMMARY:DCI Pittsburgh
DESCRIPTION:DCI Pittsburgh\n\n 04 Aug\n Pittsburgh\, PA\n 7:30 PM ET
URL:https://www.scvanguard.org/event/dci-pittsburgh-2/
CATEGORIES:DCI Shows
ATTACH;FMTTYPE=image/jpeg:https://www.scvanguard.org/wp-content/uploads/2024/11/DCI-SCV-Event-Pic.jpg
END:VEVENT
BEGIN:VEVENT
DTSTART;TZID=America/Los_Angeles:20250807T113000
DTEND;TZID=America/Los_Angeles:20250807T230000
DTSTAMP:20260422T034302
CREATED:20241121T180912Z
LAST-MODIFIED:20241121T180935Z
UID:10001893-1754566200-1754607600@www.scvanguard.org
SUMMARY:DCI World Championship Prelims
DESCRIPTION:DCI World Championship Prelims\n\n 07 Aug\n Indianapolis\, IN\n 11:45 AM ET
URL:https://www.scvanguard.org/event/dci-world-championship-prelims-2/
CATEGORIES:DCI Shows
ATTACH;FMTTYPE=image/jpeg:https://www.scvanguard.org/wp-content/uploads/2024/11/DCI-SCV-Championships-Pic.jpg
END:VEVENT
BEGIN:VEVENT
DTSTART;TZID=America/New_York:20250810T103000
DTEND;TZID=America/New_York:20250810T133000
DTSTAMP:20260422T034302
CREATED:20250724T171850Z
LAST-MODIFIED:20250806T181014Z
UID:10001910-1754821800-1754832600@www.scvanguard.org
SUMMARY:2025 End of Season Banquet
DESCRIPTION:Content is protected.
URL:https://www.scvanguard.org/event/2025-end-of-season-banquet/
CATEGORIES:SCV
END:VEVENT
BEGIN:VEVENT
DTSTART;TZID=America/Los_Angeles:20250826T180000
DTEND;TZID=America/Los_Angeles:20250826T190000
DTSTAMP:20260422T034302
CREATED:20250603T234830Z
LAST-MODIFIED:20250825T160924Z
UID:10001907-1756231200-1756234800@www.scvanguard.org
SUMMARY:VMAPA Board of Directors Meeting - August 26th
DESCRIPTION:Hi there\, \n  \nYou are invited to a Zoom webinar. \nWhen: August 26\, 2025\, 6:00 PM Pacific Time (US and Canada) \nTopic: VMAPA Board Meeting \nWebinar link: https://zoom.us/j/94264360778?pwd=bbJeHfFV9MQn1e8gTG9l7otatazzeW.1
URL:https://www.scvanguard.org/event/vmapa-board-of-directors-meeting-august-26th/
CATEGORIES:VMAPA Board Meeting
ATTACH;FMTTYPE=image/jpeg:https://www.scvanguard.org/wp-content/uploads/2023/08/VMAPA-Logo-w-bg.jpg
END:VEVENT
END:VCALENDAR