
BEGIN:VCALENDAR
VERSION:2.0
PRODID:-//Santa Clara Vanguard - ECPv6.15.20//NONSGML v1.0//EN
CALSCALE:GREGORIAN
METHOD:PUBLISH
X-ORIGINAL-URL:https://www.scvanguard.org
X-WR-CALDESC:Events for Santa Clara Vanguard
REFRESH-INTERVAL;VALUE=DURATION:PT1H
X-Robots-Tag:noindex
X-PUBLISHED-TTL:PT1H
BEGIN:VTIMEZONE
TZID:America/Los_Angeles
BEGIN:DAYLIGHT
TZOFFSETFROM:-0800
TZOFFSETTO:-0700
TZNAME:PDT
DTSTART:20230312T100000
END:DAYLIGHT
BEGIN:STANDARD
TZOFFSETFROM:-0700
TZOFFSETTO:-0800
TZNAME:PST
DTSTART:20231105T090000
END:STANDARD
BEGIN:DAYLIGHT
TZOFFSETFROM:-0800
TZOFFSETTO:-0700
TZNAME:PDT
DTSTART:20240310T100000
END:DAYLIGHT
BEGIN:STANDARD
TZOFFSETFROM:-0700
TZOFFSETTO:-0800
TZNAME:PST
DTSTART:20241103T090000
END:STANDARD
BEGIN:DAYLIGHT
TZOFFSETFROM:-0800
TZOFFSETTO:-0700
TZNAME:PDT
DTSTART:20250309T100000
END:DAYLIGHT
BEGIN:STANDARD
TZOFFSETFROM:-0700
TZOFFSETTO:-0800
TZNAME:PST
DTSTART:20251102T090000
END:STANDARD
END:VTIMEZONE
BEGIN:VEVENT
DTSTART;TZID=America/Los_Angeles:20240117T173000
DTEND;TZID=America/Los_Angeles:20240117T183000
DTSTAMP:20260421T103915
CREATED:20230620T173255Z
LAST-MODIFIED:20231228T035520Z
UID:10000484-1705512600-1705516200@www.scvanguard.org
SUMMARY:Vanguard Alumni Association Monthly Meeting
DESCRIPTION:This meeting will be hosted on Zoom \nhttps://us06web.zoom.us/j/81387235213?pwd=WWd2dTN2MDgvVk9abXNKTTJHc29tZz09 \nTo join by phone:\n– Dial: 669-900-6833\n– Meeting ID: 813 8723 5213\n– Passcode: 432117 \nTo find a more local number\, visit https://us06web.zoom.us/u/kstsEvUfM \nOnce you a located a more local number\, use the same meeting ID and passcode.
URL:https://www.scvanguard.org/event/vmapa-alumni-association-meeting-3-2-2/2024-01-17/
LOCATION:Zoom
CATEGORIES:VMAPA Alumni Association Meeting
ATTACH;FMTTYPE=image/png:https://www.scvanguard.org/wp-content/uploads/2022/11/Alumni-Logo-New.png
ORGANIZER;CN="Vanguard Alumni Association":MAILTO:alumni@scvanguard.org
END:VEVENT
BEGIN:VEVENT
DTSTART;TZID=America/Los_Angeles:20240129T170000
DTEND;TZID=America/Los_Angeles:20240129T180000
DTSTAMP:20260421T103915
CREATED:20240126T224552Z
LAST-MODIFIED:20240126T234131Z
UID:10001301-1706547600-1706551200@www.scvanguard.org
SUMMARY:Vanguard Historical Society: Decades Project Kickoff Meeting for the "Fours"
DESCRIPTION:Join us for our kickoff meeting to learn how you can participate in the VHS Decades project. This year we are covering every program and year ending in a four. 1974\, 1984\, 1994\, 2004 & 2014! \n  \nDecades Project Meetings is inviting you to a scheduled Zoom meeting. \nTopic: VHS Decades Project Kickoff Meeting for The Fours\nTime: Jan 29\, 2024 08:00 PM Eastern Time (US and Canada) \nJoin Zoom Meeting\nhttps://us06web.zoom.us/j/86334361891?pwd=0fChTTpUFiWuzYccxI9UbO2eMqgTAb.1\n\nMeeting ID: 863 3436 1891\nPasscode: 1967 \n— \nOne tap mobile\n+16699006833\,\,86334361891#\,\,\,\,*1967# US (San Jose)\n+16694449171\,\,86334361891#\,\,\,\,*1967# US \n— \nDial by your location\n• +1 669 900 6833 US (San Jose)\n• +1 669 444 9171 US\n• +1 253 215 8782 US (Tacoma)\n• +1 346 248 7799 US (Houston)\n• +1 719 359 4580 US\n• +1 253 205 0468 US\n• +1 312 626 6799 US (Chicago)\n• +1 360 209 5623 US\n• +1 386 347 5053 US\n• +1 507 473 4847 US\n• +1 564 217 2000 US\n• +1 646 931 3860 US\n• +1 689 278 1000 US\n• +1 929 205 6099 US (New York)\n• +1 301 715 8592 US (Washington DC)\n• +1 305 224 1968 US\n• +1 309 205 3325 US \nMeeting ID: 863 3436 1891\nPasscode: 1967 \nFind your local number: https://us06web.zoom.us/u/k7GVWy0V
URL:https://www.scvanguard.org/event/vanguard-historical-society-decades-project-kickoff-meeting-for-the-fours/
ATTACH;FMTTYPE=image/jpeg:https://www.scvanguard.org/wp-content/uploads/2023/02/VHS-400x400-1.jpg
END:VEVENT
BEGIN:VEVENT
DTSTART;TZID=America/Los_Angeles:20240131T163000
DTEND;TZID=America/Los_Angeles:20240131T173000
DTSTAMP:20260421T103915
CREATED:20231228T035129Z
LAST-MODIFIED:20240108T205843Z
UID:10001113-1706718600-1706722200@www.scvanguard.org
SUMMARY:VAA Central & Eastern Alumni Breakout
DESCRIPTION:VAA Central & Eastern Alumni Breakout \nThis meeting will be hosted on Zoom \nhttps://us06web.zoom.us/j/81387235213?pwd=WWd2dTN2MDgvVk9abXNKTTJHc29tZz09 \nTo join by phone:\n– Dial: 669-900-6833\n– Meeting ID: 813 8723 5213\n– Passcode: 432117 \nTo find a more local number\, visit https://us06web.zoom.us/u/kstsEvUfM \nOnce you a located a more local number\, use the same meeting ID and passcode.
URL:https://www.scvanguard.org/event/vaa-central-eastern-alumni-breakout/
CATEGORIES:VMAPA Alumni Association Meeting
ATTACH;FMTTYPE=image/png:https://www.scvanguard.org/wp-content/uploads/2023/02/Alumni-Association-400x400-1.png
END:VEVENT
END:VCALENDAR