
BEGIN:VCALENDAR
VERSION:2.0
PRODID:-//Santa Clara Vanguard - ECPv6.15.20//NONSGML v1.0//EN
CALSCALE:GREGORIAN
METHOD:PUBLISH
X-ORIGINAL-URL:https://www.scvanguard.org
X-WR-CALDESC:Events for Santa Clara Vanguard
REFRESH-INTERVAL;VALUE=DURATION:PT1H
X-Robots-Tag:noindex
X-PUBLISHED-TTL:PT1H
BEGIN:VTIMEZONE
TZID:America/Los_Angeles
BEGIN:DAYLIGHT
TZOFFSETFROM:-0800
TZOFFSETTO:-0700
TZNAME:PDT
DTSTART:20220313T100000
END:DAYLIGHT
BEGIN:STANDARD
TZOFFSETFROM:-0700
TZOFFSETTO:-0800
TZNAME:PST
DTSTART:20221106T090000
END:STANDARD
BEGIN:DAYLIGHT
TZOFFSETFROM:-0800
TZOFFSETTO:-0700
TZNAME:PDT
DTSTART:20230312T100000
END:DAYLIGHT
BEGIN:STANDARD
TZOFFSETFROM:-0700
TZOFFSETTO:-0800
TZNAME:PST
DTSTART:20231105T090000
END:STANDARD
BEGIN:DAYLIGHT
TZOFFSETFROM:-0800
TZOFFSETTO:-0700
TZNAME:PDT
DTSTART:20240310T100000
END:DAYLIGHT
BEGIN:STANDARD
TZOFFSETFROM:-0700
TZOFFSETTO:-0800
TZNAME:PST
DTSTART:20241103T090000
END:STANDARD
END:VTIMEZONE
BEGIN:VEVENT
DTSTART;TZID=America/Los_Angeles:20231004T170000
DTEND;TZID=America/Los_Angeles:20231004T180000
DTSTAMP:20260421T161754
CREATED:20230919T232418Z
LAST-MODIFIED:20231013T191555Z
UID:10000680-1696438800-1696442400@www.scvanguard.org
SUMMARY:Vanguard Alumni Association Committees Meeting
DESCRIPTION:The Vanguard Alumni Association has a few alumni-run committees focused on a few goals and objectives\, namely fundraising\, alumni engagement\, and communication. These committees meet every other week. Any and all alumni are welcome to join \nJoin Zoom Meeting\nhttps://us06web.zoom.us/j/83022633586?pwd=d29EdzErR3Y1Zjk5TmxrUFZZZGw0QT09 \nMeeting ID: 830 2263 3586\nPasscode: 842571 \nFind your local number: https://us06web.zoom.us/u/ks3J16VC4
URL:https://www.scvanguard.org/event/vanguard-alumni-association-committees-meeting-2/
ATTACH;FMTTYPE=image/png:https://www.scvanguard.org/wp-content/uploads/2022/11/Alumni-Logo-New.png
END:VEVENT
BEGIN:VEVENT
DTSTART;TZID=America/Los_Angeles:20231018T173000
DTEND;TZID=America/Los_Angeles:20231018T183000
DTSTAMP:20260421T161754
CREATED:20230620T173255Z
LAST-MODIFIED:20231228T035520Z
UID:10000481-1697650200-1697653800@www.scvanguard.org
SUMMARY:Vanguard Alumni Association Monthly Meeting
DESCRIPTION:This meeting will be hosted on Zoom \nhttps://us06web.zoom.us/j/81387235213?pwd=WWd2dTN2MDgvVk9abXNKTTJHc29tZz09 \nTo join by phone:\n– Dial: 669-900-6833\n– Meeting ID: 813 8723 5213\n– Passcode: 432117 \nTo find a more local number\, visit https://us06web.zoom.us/u/kstsEvUfM \nOnce you a located a more local number\, use the same meeting ID and passcode.
URL:https://www.scvanguard.org/event/vmapa-alumni-association-meeting-3-2-2/2023-10-18/
LOCATION:Zoom
CATEGORIES:VMAPA Alumni Association Meeting
ATTACH;FMTTYPE=image/png:https://www.scvanguard.org/wp-content/uploads/2022/11/Alumni-Logo-New.png
ORGANIZER;CN="Vanguard Alumni Association":MAILTO:alumni@scvanguard.org
END:VEVENT
END:VCALENDAR