
BEGIN:VCALENDAR
VERSION:2.0
PRODID:-//Santa Clara Vanguard - ECPv6.15.20//NONSGML v1.0//EN
CALSCALE:GREGORIAN
METHOD:PUBLISH
X-ORIGINAL-URL:https://www.scvanguard.org
X-WR-CALDESC:Events for Santa Clara Vanguard
REFRESH-INTERVAL;VALUE=DURATION:PT1H
X-Robots-Tag:noindex
X-PUBLISHED-TTL:PT1H
BEGIN:VTIMEZONE
TZID:America/Los_Angeles
BEGIN:DAYLIGHT
TZOFFSETFROM:-0800
TZOFFSETTO:-0700
TZNAME:PDT
DTSTART:20220313T100000
END:DAYLIGHT
BEGIN:STANDARD
TZOFFSETFROM:-0700
TZOFFSETTO:-0800
TZNAME:PST
DTSTART:20221106T090000
END:STANDARD
BEGIN:DAYLIGHT
TZOFFSETFROM:-0800
TZOFFSETTO:-0700
TZNAME:PDT
DTSTART:20230312T100000
END:DAYLIGHT
BEGIN:STANDARD
TZOFFSETFROM:-0700
TZOFFSETTO:-0800
TZNAME:PST
DTSTART:20231105T090000
END:STANDARD
BEGIN:DAYLIGHT
TZOFFSETFROM:-0800
TZOFFSETTO:-0700
TZNAME:PDT
DTSTART:20240310T100000
END:DAYLIGHT
BEGIN:STANDARD
TZOFFSETFROM:-0700
TZOFFSETTO:-0800
TZNAME:PST
DTSTART:20241103T090000
END:STANDARD
END:VTIMEZONE
BEGIN:VEVENT
DTSTART;TZID=America/Los_Angeles:20230816T173000
DTEND;TZID=America/Los_Angeles:20230816T183000
DTSTAMP:20260421T201558
CREATED:20230620T173255Z
LAST-MODIFIED:20231228T035520Z
UID:10000479-1692207000-1692210600@www.scvanguard.org
SUMMARY:Vanguard Alumni Association Monthly Meeting
DESCRIPTION:This meeting will be hosted on Zoom \nhttps://us06web.zoom.us/j/81387235213?pwd=WWd2dTN2MDgvVk9abXNKTTJHc29tZz09 \nTo join by phone:\n– Dial: 669-900-6833\n– Meeting ID: 813 8723 5213\n– Passcode: 432117 \nTo find a more local number\, visit https://us06web.zoom.us/u/kstsEvUfM \nOnce you a located a more local number\, use the same meeting ID and passcode.
URL:https://www.scvanguard.org/event/vmapa-alumni-association-meeting-3-2-2/2023-08-16/
LOCATION:Zoom
CATEGORIES:VMAPA Alumni Association Meeting
ATTACH;FMTTYPE=image/png:https://www.scvanguard.org/wp-content/uploads/2022/11/Alumni-Logo-New.png
ORGANIZER;CN="Vanguard Alumni Association":MAILTO:alumni@scvanguard.org
END:VEVENT
BEGIN:VEVENT
DTSTART;TZID=America/Los_Angeles:20230828T180000
DTEND;TZID=America/Los_Angeles:20230828T210000
DTSTAMP:20260421T201558
CREATED:20230821T162442Z
LAST-MODIFIED:20230821T162442Z
UID:10000539-1693245600-1693256400@www.scvanguard.org
SUMMARY:VMAPA Board Meeting - Monday\, August 28\, 2023 6pm – 9pm (PDT)
DESCRIPTION:This meeting will be hosted on Zoom \nhttps://us06web.zoom.us/j/84173713034?pwd=NW5TYWFRZkR1MERrbnNBbnNDN1dmdz09 \nTo join by phone:\n– Dial: 669-900-6833\n– Meeting ID: 841 7371 3034#\n– Passcode: 043568# \nTo find a more local number\, visit https://zoom.us/u/acvMyDNWeV \nOnce you a located a more local number\, use the same meeting ID and passcode.
URL:https://www.scvanguard.org/event/vmapa-board-meeting-monday-august-28-2023-6pm-9pm-pdt/
CATEGORIES:VMAPA Board Meeting
END:VEVENT
END:VCALENDAR