
BEGIN:VCALENDAR
VERSION:2.0
PRODID:-//Santa Clara Vanguard - ECPv6.15.20//NONSGML v1.0//EN
CALSCALE:GREGORIAN
METHOD:PUBLISH
X-ORIGINAL-URL:https://www.scvanguard.org
X-WR-CALDESC:Events for Santa Clara Vanguard
REFRESH-INTERVAL;VALUE=DURATION:PT1H
X-Robots-Tag:noindex
X-PUBLISHED-TTL:PT1H
BEGIN:VTIMEZONE
TZID:America/Los_Angeles
BEGIN:DAYLIGHT
TZOFFSETFROM:-0800
TZOFFSETTO:-0700
TZNAME:PDT
DTSTART:20220313T100000
END:DAYLIGHT
BEGIN:STANDARD
TZOFFSETFROM:-0700
TZOFFSETTO:-0800
TZNAME:PST
DTSTART:20221106T090000
END:STANDARD
BEGIN:DAYLIGHT
TZOFFSETFROM:-0800
TZOFFSETTO:-0700
TZNAME:PDT
DTSTART:20230312T100000
END:DAYLIGHT
BEGIN:STANDARD
TZOFFSETFROM:-0700
TZOFFSETTO:-0800
TZNAME:PST
DTSTART:20231105T090000
END:STANDARD
BEGIN:DAYLIGHT
TZOFFSETFROM:-0800
TZOFFSETTO:-0700
TZNAME:PDT
DTSTART:20240310T100000
END:DAYLIGHT
BEGIN:STANDARD
TZOFFSETFROM:-0700
TZOFFSETTO:-0800
TZNAME:PST
DTSTART:20241103T090000
END:STANDARD
END:VTIMEZONE
BEGIN:VEVENT
DTSTART;TZID=America/Los_Angeles:20230520T183000
DTEND;TZID=America/Los_Angeles:20230520T193000
DTSTAMP:20260422T055702
CREATED:20230315T231321Z
LAST-MODIFIED:20231220T020223Z
UID:10001107-1684607400-1684611000@www.scvanguard.org
SUMMARY:Vanguard Alumni Association Monthly Meeting
DESCRIPTION:This meeting will be hosted on Zoom \nhttps://us06web.zoom.us/j/81387235213?pwd=WWd2dTN2MDgvVk9abXNKTTJHc29tZz09 \nTo join by phone:\n– Dial: 669-900-6833\n– Meeting ID: 813 8723 5213\n– Passcode: 432117 \nTo find a more local number\, visit https://us06web.zoom.us/u/kstsEvUfM \nOnce you a located a more local number\, use the same meeting ID and passcode.
URL:https://www.scvanguard.org/event/vmapa-alumni-association-meeting-3-2/2023-05-20/
LOCATION:Zoom
CATEGORIES:VMAPA Alumni Association Meeting
ORGANIZER;CN="Vanguard Alumni Association":MAILTO:alumni@scvanguard.org
END:VEVENT
BEGIN:VEVENT
DTSTART;TZID=America/Los_Angeles:20230524T080000
DTEND;TZID=America/Los_Angeles:20230524T170000
DTSTAMP:20260422T055702
CREATED:20230519T213848Z
LAST-MODIFIED:20230519T213848Z
UID:10000476-1684915200-1684947600@www.scvanguard.org
SUMMARY:VMAPA Board Meeting - Wed May 24\, 2023 6pm – 8pm (PDT)
DESCRIPTION:This meeting will be hosted on Zoom \nhttps://us06web.zoom.us/j/84173713034?pwd=NW5TYWFRZkR1MERrbnNBbnNDN1dmdz09 \nTo join by phone:\n– Dial: 669-900-6833\n– Meeting ID: 841 7371 3034#\n– Passcode: 043568# \nTo find a more local number\, visit https://zoom.us/u/acvMyDNWeV \nOnce you a located a more local number\, use the same meeting ID and passcode.
URL:https://www.scvanguard.org/event/vmapa-board-meeting-wed-may-24-2023-6pm-8pm-pdt/2023-05-24/
CATEGORIES:VMAPA Board Meeting
END:VEVENT
BEGIN:VEVENT
DTSTART;TZID=America/Los_Angeles:20230524T080000
DTEND;TZID=America/Los_Angeles:20230524T170000
DTSTAMP:20260422T055702
CREATED:20240625T182147Z
LAST-MODIFIED:20240625T182147Z
UID:10001844-1684915200-1684947600@www.scvanguard.org
SUMMARY:VMAPA Board Meeting -Tues June 25\, 2024 6:30pm – 8pm (PDT)
DESCRIPTION:VMAPA Board Meeting \nWhen: Jun 25\, 2024 06:30 PM Pacific Time (US and Canada) \nRegister in advance for this Zoom webinar: \nhttps://us06web.zoom.us/webinar/register/WN_-J8wHafNRY-Rs9frkwrVTw \n  \n  \nAfter registering\, you will receive a confirmation email containing information about joining the webinar.
URL:https://www.scvanguard.org/event/vmapa-board-meeting-tues-june-25-2024-630pm-8pm-pdt/2023-05-24/
CATEGORIES:VMAPA Board Meeting
END:VEVENT
END:VCALENDAR