
BEGIN:VCALENDAR
VERSION:2.0
PRODID:-//Santa Clara Vanguard - ECPv6.15.20//NONSGML v1.0//EN
CALSCALE:GREGORIAN
METHOD:PUBLISH
X-ORIGINAL-URL:https://www.scvanguard.org
X-WR-CALDESC:Events for Santa Clara Vanguard
REFRESH-INTERVAL;VALUE=DURATION:PT1H
X-Robots-Tag:noindex
X-PUBLISHED-TTL:PT1H
BEGIN:VTIMEZONE
TZID:America/Los_Angeles
BEGIN:DAYLIGHT
TZOFFSETFROM:-0800
TZOFFSETTO:-0700
TZNAME:PDT
DTSTART:20250309T100000
END:DAYLIGHT
BEGIN:STANDARD
TZOFFSETFROM:-0700
TZOFFSETTO:-0800
TZNAME:PST
DTSTART:20251102T090000
END:STANDARD
BEGIN:DAYLIGHT
TZOFFSETFROM:-0800
TZOFFSETTO:-0700
TZNAME:PDT
DTSTART:20260308T100000
END:DAYLIGHT
BEGIN:STANDARD
TZOFFSETFROM:-0700
TZOFFSETTO:-0800
TZNAME:PST
DTSTART:20261101T090000
END:STANDARD
BEGIN:DAYLIGHT
TZOFFSETFROM:-0800
TZOFFSETTO:-0700
TZNAME:PDT
DTSTART:20270314T100000
END:DAYLIGHT
BEGIN:STANDARD
TZOFFSETFROM:-0700
TZOFFSETTO:-0800
TZNAME:PST
DTSTART:20271107T090000
END:STANDARD
END:VTIMEZONE
BEGIN:VEVENT
DTSTART;VALUE=DATE:20260701
DTEND;VALUE=DATE:20260702
DTSTAMP:20260425T081506
CREATED:20260204T165555Z
LAST-MODIFIED:20260204T165555Z
UID:10002010-1782864000-1782950399@www.scvanguard.org
SUMMARY:SCV Show: Northwest Youth Music Games Portland\, OR
DESCRIPTION:SCV Show: Northwest Youth Music Games\nPortland\, OR \nhttps://www.scvanguard.org/tickets/#:~:text=Games%0APortland%2C%20OR-\,On%20Sale%20Soon\,-7/3/26
URL:https://www.scvanguard.org/event/scv-show-northwest-youth-music-games-portland-or/
CATEGORIES:DCI Shows,SCV
ATTACH;FMTTYPE=image/png:https://www.scvanguard.org/wp-content/uploads/2025/01/SCV-Shield-Only.png
ORGANIZER;CN="Santa Clara Vanguard":MAILTO:acorps@scvanguard.org
END:VEVENT
END:VCALENDAR