
BEGIN:VCALENDAR
VERSION:2.0
PRODID:-//Santa Clara Vanguard - ECPv6.15.20//NONSGML v1.0//EN
CALSCALE:GREGORIAN
METHOD:PUBLISH
X-ORIGINAL-URL:https://www.scvanguard.org
X-WR-CALDESC:Events for Santa Clara Vanguard
REFRESH-INTERVAL;VALUE=DURATION:PT1H
X-Robots-Tag:noindex
X-PUBLISHED-TTL:PT1H
BEGIN:VTIMEZONE
TZID:America/Los_Angeles
BEGIN:DAYLIGHT
TZOFFSETFROM:-0800
TZOFFSETTO:-0700
TZNAME:PDT
DTSTART:20230312T100000
END:DAYLIGHT
BEGIN:STANDARD
TZOFFSETFROM:-0700
TZOFFSETTO:-0800
TZNAME:PST
DTSTART:20231105T090000
END:STANDARD
BEGIN:DAYLIGHT
TZOFFSETFROM:-0800
TZOFFSETTO:-0700
TZNAME:PDT
DTSTART:20240310T100000
END:DAYLIGHT
BEGIN:STANDARD
TZOFFSETFROM:-0700
TZOFFSETTO:-0800
TZNAME:PST
DTSTART:20241103T090000
END:STANDARD
BEGIN:DAYLIGHT
TZOFFSETFROM:-0800
TZOFFSETTO:-0700
TZNAME:PDT
DTSTART:20250309T100000
END:DAYLIGHT
BEGIN:STANDARD
TZOFFSETFROM:-0700
TZOFFSETTO:-0800
TZNAME:PST
DTSTART:20251102T090000
END:STANDARD
END:VTIMEZONE
BEGIN:VEVENT
DTSTART;TZID=America/Los_Angeles:20240803T190000
DTEND;TZID=America/Los_Angeles:20240803T220000
DTSTAMP:20260420T032327
CREATED:20231115T214308Z
LAST-MODIFIED:20231115T214308Z
UID:10001102-1722711600-1722722400@www.scvanguard.org
SUMMARY:DCI Eastern Classic
DESCRIPTION:Click Here For Ticket Information\nLineup & Times\nAll times ET and subject to change \n\n\n\n\nBlue Stars – La Crosse\, WI\n\n\n\nBoston Crusaders – Boston\, MA\n\n\n\nCarolina Crown – Fort Mill\, SC\n\n\n\nCrossmen – San Antonio\, TX\n\n\n\nJersey Surf – Camden County\, NJ\n\n\n\nMandarins – Sacramento\, CA\n\n\n\nPhantom Regiment – Rockford\, IL\n\n\n\nSanta Clara Vanguard – Santa Clara\, CA\n\n\n\nSeattle Cascades – Seattle\, WA\n\n\n\nSpirit of Atlanta – Atlanta\, GA\n\n\n\nTroopers – Casper\, WY
URL:https://www.scvanguard.org/event/dci-eastern-classic/
LOCATION:J. Birney Crum Stadium\, Linden St. & 20th St.\, Allentown\,\, PA\, 18105
CATEGORIES:DCI Shows,SCV
END:VEVENT
END:VCALENDAR