
BEGIN:VCALENDAR
VERSION:2.0
PRODID:-//Santa Clara Vanguard - ECPv6.15.20//NONSGML v1.0//EN
CALSCALE:GREGORIAN
METHOD:PUBLISH
X-ORIGINAL-URL:https://www.scvanguard.org
X-WR-CALDESC:Events for Santa Clara Vanguard
REFRESH-INTERVAL;VALUE=DURATION:PT1H
X-Robots-Tag:noindex
X-PUBLISHED-TTL:PT1H
BEGIN:VTIMEZONE
TZID:America/Los_Angeles
BEGIN:DAYLIGHT
TZOFFSETFROM:-0800
TZOFFSETTO:-0700
TZNAME:PDT
DTSTART:20230312T100000
END:DAYLIGHT
BEGIN:STANDARD
TZOFFSETFROM:-0700
TZOFFSETTO:-0800
TZNAME:PST
DTSTART:20231105T090000
END:STANDARD
BEGIN:DAYLIGHT
TZOFFSETFROM:-0800
TZOFFSETTO:-0700
TZNAME:PDT
DTSTART:20240310T100000
END:DAYLIGHT
BEGIN:STANDARD
TZOFFSETFROM:-0700
TZOFFSETTO:-0800
TZNAME:PST
DTSTART:20241103T090000
END:STANDARD
BEGIN:DAYLIGHT
TZOFFSETFROM:-0800
TZOFFSETTO:-0700
TZNAME:PDT
DTSTART:20250309T100000
END:DAYLIGHT
BEGIN:STANDARD
TZOFFSETFROM:-0700
TZOFFSETTO:-0800
TZNAME:PST
DTSTART:20251102T090000
END:STANDARD
END:VTIMEZONE
BEGIN:VEVENT
DTSTART;TZID=America/Los_Angeles:20240228T163000
DTEND;TZID=America/Los_Angeles:20240228T173000
DTSTAMP:20260419T132623
CREATED:20240108T204152Z
LAST-MODIFIED:20240108T210314Z
UID:10001293-1709137800-1709141400@www.scvanguard.org
SUMMARY:VAA Central & Eastern Alumni Breakout
DESCRIPTION:VAA Central & Eastern Alumni Breakout \nPreferential time to accommodate EST and CST alumni\, all generations \n*If fewer than 5 attendees 20 minutes after start we will end early \nThis meeting will be hosted on Zoom \nhttps://us06web.zoom.us/j/81387235213?pwd=WWd2dTN2MDgvVk9abXNKTTJHc29tZz09 \nTo join by phone:\n– Dial: 669-900-6833\n– Meeting ID: 813 8723 5213\n– Passcode: 432117 \nTo find a more local number\, visit https://us06web.zoom.us/u/kstsEvUfM \nOnce you a located a more local number\, use the same meeting ID and passcode.
URL:https://www.scvanguard.org/event/vaa-central-eastern-alumni-breakout-2/
CATEGORIES:VMAPA Alumni Association Meeting
ATTACH;FMTTYPE=image/png:https://www.scvanguard.org/wp-content/uploads/2023/02/Alumni-Association-400x400-1.png
ORGANIZER;CN="Vanguard Alumni Association":MAILTO:alumni@scvanguard.org
END:VEVENT
END:VCALENDAR