
BEGIN:VCALENDAR
VERSION:2.0
PRODID:-//Santa Clara Vanguard - ECPv6.15.20//NONSGML v1.0//EN
CALSCALE:GREGORIAN
METHOD:PUBLISH
X-ORIGINAL-URL:https://www.scvanguard.org
X-WR-CALDESC:Events for Santa Clara Vanguard
REFRESH-INTERVAL;VALUE=DURATION:PT1H
X-Robots-Tag:noindex
X-PUBLISHED-TTL:PT1H
BEGIN:VTIMEZONE
TZID:America/Los_Angeles
BEGIN:DAYLIGHT
TZOFFSETFROM:-0800
TZOFFSETTO:-0700
TZNAME:PDT
DTSTART:20220313T100000
END:DAYLIGHT
BEGIN:STANDARD
TZOFFSETFROM:-0700
TZOFFSETTO:-0800
TZNAME:PST
DTSTART:20221106T090000
END:STANDARD
BEGIN:DAYLIGHT
TZOFFSETFROM:-0800
TZOFFSETTO:-0700
TZNAME:PDT
DTSTART:20230312T100000
END:DAYLIGHT
BEGIN:STANDARD
TZOFFSETFROM:-0700
TZOFFSETTO:-0800
TZNAME:PST
DTSTART:20231105T090000
END:STANDARD
BEGIN:DAYLIGHT
TZOFFSETFROM:-0800
TZOFFSETTO:-0700
TZNAME:PDT
DTSTART:20240310T100000
END:DAYLIGHT
BEGIN:STANDARD
TZOFFSETFROM:-0700
TZOFFSETTO:-0800
TZNAME:PST
DTSTART:20241103T090000
END:STANDARD
END:VTIMEZONE
BEGIN:VEVENT
DTSTART;TZID=America/Los_Angeles:20230919T180000
DTEND;TZID=America/Los_Angeles:20230919T210000
DTSTAMP:20260421T201609
CREATED:20230919T025537Z
LAST-MODIFIED:20230919T061509Z
UID:10000540-1695146400-1695157200@www.scvanguard.org
SUMMARY:VMAPA Board Meeting - Tues September 19\, 2023 6pm – 8pm (PDT)
DESCRIPTION:You are invited to a Zoom webinar.\nWhen: Sep 19\, 2023 06:00 PM Pacific Time (US and Canada)\nTopic: VMAPA Board Meeting\nRegister in advance for this webinar:\nhttps://us06web.zoom.us/webinar/register/WN_t3KLarE6QMqTr88BPlhz1Q \nAfter registering\, you will receive a confirmation email containing information about joining the webinar.
URL:https://www.scvanguard.org/event/vmapa-board-meeting-tues-september-19-2023-6pm-8pm-pdt/
END:VEVENT
END:VCALENDAR