
BEGIN:VCALENDAR
VERSION:2.0
PRODID:-//Santa Clara Vanguard - ECPv6.15.20//NONSGML v1.0//EN
CALSCALE:GREGORIAN
METHOD:PUBLISH
X-ORIGINAL-URL:https://www.scvanguard.org
X-WR-CALDESC:Events for Santa Clara Vanguard
REFRESH-INTERVAL;VALUE=DURATION:PT1H
X-Robots-Tag:noindex
X-PUBLISHED-TTL:PT1H
BEGIN:VTIMEZONE
TZID:America/Los_Angeles
BEGIN:DAYLIGHT
TZOFFSETFROM:-0800
TZOFFSETTO:-0700
TZNAME:PDT
DTSTART:20220313T100000
END:DAYLIGHT
BEGIN:STANDARD
TZOFFSETFROM:-0700
TZOFFSETTO:-0800
TZNAME:PST
DTSTART:20221106T090000
END:STANDARD
BEGIN:DAYLIGHT
TZOFFSETFROM:-0800
TZOFFSETTO:-0700
TZNAME:PDT
DTSTART:20230312T100000
END:DAYLIGHT
BEGIN:STANDARD
TZOFFSETFROM:-0700
TZOFFSETTO:-0800
TZNAME:PST
DTSTART:20231105T090000
END:STANDARD
BEGIN:DAYLIGHT
TZOFFSETFROM:-0800
TZOFFSETTO:-0700
TZNAME:PDT
DTSTART:20240310T100000
END:DAYLIGHT
BEGIN:STANDARD
TZOFFSETFROM:-0700
TZOFFSETTO:-0800
TZNAME:PST
DTSTART:20241103T090000
END:STANDARD
END:VTIMEZONE
BEGIN:VEVENT
DTSTART;TZID=America/Los_Angeles:20230724T163000
DTEND;TZID=America/Los_Angeles:20230724T210000
DTSTAMP:20260422T052754
CREATED:20230717T165154Z
LAST-MODIFIED:20230717T165154Z
UID:10000537-1690216200-1690232400@www.scvanguard.org
SUMMARY:Marching Music McKinney DCI Drum Line Expo
DESCRIPTION:Experience a never-before-seen event at The Stix Icehouse in McKinney: a DCI drumline exhibition featuring Music City\, The Troopers\, Mandarins\, and Santa Clara Vanguard. Witness the extraordinary performances of three renowned drumlines\, facilitated by their caption heads. Enjoy the atmosphere of The Stix Icehouse\, one of McKinney’s best hangouts\, where you can grab dinner before or during the show and indulge in the bar during the event. It’s an unforgettable evening of sensational music\, exceptional entertainment\, and a unique gathering as we celebrate marching arts the night before the big competition at the McKinney District Football Stadium. \n  \nImportant Info: \n-Doors will open at 4:30 pm for table service. Dining will only be available for parties seated at a table. \n-The outside bar will be open for drinks and refreshments as well. \n-Performances will take place at the outdoor recreation space. \n-Be sure to bring a folding chair if you want to sit in the performance area. \n-Patrons will receive a wristband upon checking in at the event. \n-Drumline performances will begin at 6:00 pm and will continue until 8:30 pm. \n-Earplugs will be available for sale on-site.
URL:https://www.scvanguard.org/event/marching-music-mckinney-dci-drum-line-expo/
ATTACH;FMTTYPE=image/webp:https://www.scvanguard.org/wp-content/uploads/2023/07/McKinney-Drumline-Expo.webp
END:VEVENT
END:VCALENDAR