
BEGIN:VCALENDAR
VERSION:2.0
PRODID:-//Santa Clara Vanguard - ECPv6.15.20//NONSGML v1.0//EN
CALSCALE:GREGORIAN
METHOD:PUBLISH
X-ORIGINAL-URL:https://www.scvanguard.org
X-WR-CALDESC:Events for Santa Clara Vanguard
REFRESH-INTERVAL;VALUE=DURATION:PT1H
X-Robots-Tag:noindex
X-PUBLISHED-TTL:PT1H
BEGIN:VTIMEZONE
TZID:America/Los_Angeles
BEGIN:DAYLIGHT
TZOFFSETFROM:-0800
TZOFFSETTO:-0700
TZNAME:PDT
DTSTART:20210314T100000
END:DAYLIGHT
BEGIN:STANDARD
TZOFFSETFROM:-0700
TZOFFSETTO:-0800
TZNAME:PST
DTSTART:20211107T090000
END:STANDARD
BEGIN:DAYLIGHT
TZOFFSETFROM:-0800
TZOFFSETTO:-0700
TZNAME:PDT
DTSTART:20220313T100000
END:DAYLIGHT
BEGIN:STANDARD
TZOFFSETFROM:-0700
TZOFFSETTO:-0800
TZNAME:PST
DTSTART:20221106T090000
END:STANDARD
BEGIN:DAYLIGHT
TZOFFSETFROM:-0800
TZOFFSETTO:-0700
TZNAME:PDT
DTSTART:20230312T100000
END:DAYLIGHT
BEGIN:STANDARD
TZOFFSETFROM:-0700
TZOFFSETTO:-0800
TZNAME:PST
DTSTART:20231105T090000
END:STANDARD
END:VTIMEZONE
BEGIN:VEVENT
DTSTART;TZID=America/Los_Angeles:20221019T080000
DTEND;TZID=America/Los_Angeles:20221019T170000
DTSTAMP:20260425T082417
CREATED:20220914T234951Z
LAST-MODIFIED:20221129T115432Z
UID:10000025-1666166400-1666198800@www.scvanguard.org
SUMMARY:2022 VMAPA Board Meeting
DESCRIPTION:This meeting will be hosted on Zoom \nhttps://us06web.zoom.us/j/84173713034?pwd=NW5TYWFRZkR1MERrbnNBbnNDN1dmdz09 \nTo join by phone:\n– Dial: 669-900-6833\n– Meeting ID: 841 7371 3034#\n– Passcode: 043568# \nTo find a more local number\, visit https://zoom.us/u/acvMyDNWeV \nOnce you a located a more local number\, use the same meeting ID and passcode.
URL:https://www.scvanguard.org/event/2022-vmapa-board-meeting/2022-10-19/
CATEGORIES:VMAPA Board Meeting
END:VEVENT
END:VCALENDAR